BEGIN:VCALENDAR
VERSION:2.0
PRODID:-//ical.marudot.com//iCal Event Maker
X-WR-CALNAME:CONNECT20
CALSCALE:GREGORIAN
BEGIN:VTIMEZONE
TZID:Australia/Brisbane
TZURL:http://tzurl.org/zoneinfo-outlook/Australia/Brisbane
X-LIC-LOCATION:Australia/Brisbane
BEGIN:STANDARD
TZOFFSETFROM:+1000
TZOFFSETTO:+1000
TZNAME:AEST
DTSTART:19700101T000000
END:STANDARD
END:VTIMEZONE
BEGIN:VEVENT
DTSTAMP:20190603T034721Z
UID:20190603T034721Z-1590110341@marudot.com
DTSTART;VALUE=DATE:20200511
DTEND;VALUE=DATE:20200514
SUMMARY:CONNECT20
URL:www.connectconference.org.au
LOCATION:QT Hotel\, Surfers Paradise
END:VEVENT
END:VCALENDAR